{ "currentVersion": 10.5, "serviceDescription": "Air Quality Forecast Guidance for 24 hour average PM2.5 concentration from the numerical prediction model. Concentration units are micrograms per cubic meter. For further information please visit our website at https://www.weather.gov/sti/stimodeling_airquality <\/a>. This is a time enabled image service with WMS and WCS capabilities enabled. Forecast guidance is issued twice daily based on 6Z and 12Z model runs. Forecast information is provided in one hour intervals for the subsequent 48-hour period. Client applications may require users to specify time range parameters to view time sliced or loop data.

Link to data download (grib2): http://tgftp.nws.noaa.gov/SL.us008001/ST.opnl/DF.gr2/DC.ndgd/GT.aq/\n<\/a><\/p>
Link to metadata <\/a><\/p>
Questions/Concerns about the service, please contact the IDP-GIS <\/a> team <\/p>
Time Information: <\/b>This map is time-enabled.<\/p>\n", "name": "NWS_Forecasts_Guidance_Warnings/ndgd_apm25_hr24", "description": "Air Quality Forecast Guidance for 24 hour average PM2.5 concentration from the numerical prediction model. Concentration units are micrograms per cubic meter. For further information please visit our website at https://www.weather.gov/sti/stimodeling_airquality <\/a>. This is a time enabled image service with WMS and WCS capabilities enabled. Forecast guidance is issued twice daily based on 6Z and 12Z model runs. Forecast information is provided in one hour intervals for the subsequent 48-hour period. Client applications may require users to specify time range parameters to view time sliced or loop data.

Link to data download (grib2): http://tgftp.nws.noaa.gov/SL.us008001/ST.opnl/DF.gr2/DC.ndgd/GT.aq/\n<\/a><\/p>
Link to metadata <\/a><\/p>
Questions/Concerns about the service, please contact the IDP-GIS <\/a> team <\/p>
Time Information: <\/b>This map is time-enabled.<\/p>\n", "extent": { "xmin": -1.7018322820794784E7, "ymin": 1359430.4812583467, "xmax": -5493232.199095644, "ymax": 8707163.002758756, "spatialReference": { "wkid": 102100, "latestWkid": 3857 } }, "initialExtent": { "xmin": -1.7018322820794784E7, "ymin": 1359430.4812583467, "xmax": -5493232.199095644, "ymax": 8707163.002758756, "spatialReference": { "wkid": 102100, "latestWkid": 3857 } }, "fullExtent": { "xmin": -1.7018322820794784E7, "ymin": 1359430.4812583467, "xmax": -5493232.199095644, "ymax": 8707163.002758756, "spatialReference": { "wkid": 102100, "latestWkid": 3857 } }, "timeInfo": { "startTimeField": "idp_validtime", "endTimeField": "idp_validendtime", "timeExtent": [ 1609300800000, 1609390799000 ], "timeReference": null }, "pixelSizeX": 6496.66889611, "pixelSizeY": 6496.66889611, "bandCount": 1, "pixelType": "S16", "minPixelSize": 0, "maxPixelSize": 0, "copyrightText": "NOAA NWS STI", "serviceDataType": "esriImageServiceDataTypeGeneric", "minValues": [ 0.125 ], "maxValues": [ 63.875 ], "meanValues": [ 3.567657645780404 ], "stdvValues": [ 3.5196016527152256 ], "objectIdField": "objectid", "fields": [ { "name": "objectid", "type": "esriFieldTypeOID", "alias": "objectid", "domain": null }, { "name": "name", "type": "esriFieldTypeString", "alias": "name", "domain": null, "length": 200 }, { "name": "minps", "type": "esriFieldTypeDouble", "alias": "minps", "domain": null }, { "name": "maxps", "type": "esriFieldTypeDouble", "alias": "maxps", "domain": null }, { "name": "lowps", "type": "esriFieldTypeDouble", "alias": "lowps", "domain": null }, { "name": "highps", "type": "esriFieldTypeDouble", "alias": "highps", "domain": null }, { "name": "category", "type": "esriFieldTypeInteger", "alias": "category", "domain": { "type": "codedValue", "name": "MosaicCatalogItemCategoryDomain", "codedValues": [ { "name": "Unknown", "code": 0 }, { "name": "Primary", "code": 1 }, { "name": "Overview", "code": 2 }, { "name": "Unprocessed Overview", "code": 3 }, { "name": "Partial Overview", "code": 4 }, { "name": "Inactive", "code": 5 }, { "name": "Uploaded", "code": 253 }, { "name": "Incomplete", "code": 254 }, { "name": "Custom", "code": 255 } ], "mergePolicy": "esriMPTDefaultValue", "splitPolicy": "esriSPTDefaultValue" } }, { "name": "tag", "type": "esriFieldTypeString", "alias": "tag", "domain": null, "length": 100 }, { "name": "groupname", "type": "esriFieldTypeString", "alias": "groupname", "domain": null, "length": 100 }, { "name": "productname", "type": "esriFieldTypeString", "alias": "productname", "domain": null, "length": 100 }, { "name": "centerx", "type": "esriFieldTypeDouble", "alias": "centerx", "domain": null }, { "name": "centery", "type": "esriFieldTypeDouble", "alias": "centery", "domain": null }, { "name": "zorder", "type": "esriFieldTypeInteger", "alias": "zorder", "domain": null }, { "name": "idp_source", "type": "esriFieldTypeString", "alias": "idp_source", "domain": null, "length": 50 }, { "name": "idp_subset", "type": "esriFieldTypeString", "alias": "idp_subset", "domain": null, "length": 50 }, { "name": "idp_filedate", "type": "esriFieldTypeDate", "alias": "idp_filedate", "domain": null, "length": 8 }, { "name": "idp_ingestdate", "type": "esriFieldTypeDate", "alias": "idp_ingestdate", "domain": null, "length": 8 }, { "name": "idp_current_forecast", "type": "esriFieldTypeInteger", "alias": "idp_current_forecast", "domain": null }, { "name": "idp_time_series", "type": "esriFieldTypeInteger", "alias": "idp_time_series", "domain": null }, { "name": "idp_issueddate", "type": "esriFieldTypeDate", "alias": "idp_issueddate", "domain": null, "length": 8 }, { "name": "idp_validtime", "type": "esriFieldTypeDate", "alias": "idp_validtime", "domain": null, "length": 8 }, { "name": "idp_validendtime", "type": "esriFieldTypeDate", "alias": "idp_validendtime", "domain": null, "length": 8 }, { "name": "idp_fcst_hour", "type": "esriFieldTypeInteger", "alias": "idp_fcst_hour", "domain": null }, { "name": "idp_grb_level", "type": "esriFieldTypeString", "alias": "idp_grb_level", "domain": null, "length": 50 }, { "name": "idp_grb_elem", "type": "esriFieldTypeString", "alias": "idp_grb_elem", "domain": null, "length": 255 }, { "name": "shape", "type": "esriFieldTypeGeometry", "alias": "shape", "domain": null }, { "name": "st_area(shape)", "type": "esriFieldTypeDouble", "alias": "st_area(shape)", "domain": null }, { "name": "st_length(shape)", "type": "esriFieldTypeDouble", "alias": "st_length(shape)", "domain": null } ], "capabilities": "Catalog,Mensuration,Image,Metadata", "defaultMosaicMethod": "Northwest", "allowedMosaicMethods": "NorthWest,Center,LockRaster,ByAttribute,Nadir,Viewpoint,Seamline,None", "sortField": "", "sortValue": null, "mosaicOperator": "First", "maxDownloadSizeLimit": 2048, "defaultCompressionQuality": 75, "defaultResamplingMethod": "Bilinear", "maxImageHeight": 4100, "maxImageWidth": 15000, "maxRecordCount": 1000, "maxDownloadImageCount": 20, "maxMosaicImageCount": 20, "allowRasterFunction": true, "rasterFunctionInfos": [ { "name": "apm25_color", "description": "A raster function template.", "help": "" }, { "name": "None", "description": "", "help": "" } ], "rasterTypeInfos": [ { "name": "Raster Dataset", "description": "Supports all ArcGIS Raster Datasets", "help": "" } ], "mensurationCapabilities": "Basic", "hasHistograms": true, "hasColormap": false, "hasRasterAttributeTable": false, "minScale": 0, "maxScale": 0, "exportTilesAllowed": false, "hasMultidimensions": false, "supportsStatistics": true, "supportsAdvancedQueries": true, "editFieldsInfo": null, "ownershipBasedAccessControlForRasters": null, "allowComputeTiePoints": false, "useStandardizedQueries": true, "advancedQueryCapabilities": { "useStandardizedQueries": true, "supportsStatistics": true, "supportsOrderBy": true, "supportsDistinct": true, "supportsPagination": true }, "spatialReference": { "wkid": 102100, "latestWkid": 3857 } }