View In:
ArcGIS JavaScript
ArcGIS Online map viewer
Google Earth
ArcMap
View Footprint In:
ArcGIS Online map viewer
Service Description: Air Quality Forecast Guidance for hourly average PM2.5 concentration after post-processing to reduce biases in numerical model guidance. Concentration units are micrograms per cubic meter. For further information please visit our website at
https://www.weather.gov/sti/stimodeling_airquality . This is a time enabled image service with WMS and WCS capabilities enabled. Forecast guidance is issued twice daily based on 6Z and 12Z model runs. Forecast information is provided in one hour intervals for the subsequent 48-hour period. Client applications may require users to specify time range parameters to view time sliced or loop data.
Link to data download (grib2): http://tgftp.nws.noaa.gov/SL.us008001/ST.opnl/DF.gr2/DC.ndgd/GT.aq/
Link to metadata
Questions/Concerns about the service, please contact the IDP-GIS team
Time Information: This map is time-enabled.
Name: NWS_Forecasts_Guidance_Warnings/ndgd_apm25_hr01_bc
Description: Air Quality Forecast Guidance for hourly average PM2.5 concentration after post-processing to reduce biases in numerical model guidance. Concentration units are micrograms per cubic meter. For further information please visit our website at
https://www.weather.gov/sti/stimodeling_airquality . This is a time enabled image service with WMS and WCS capabilities enabled. Forecast guidance is issued twice daily based on 6Z and 12Z model runs. Forecast information is provided in one hour intervals for the subsequent 48-hour period. Client applications may require users to specify time range parameters to view time sliced or loop data.
Link to data download (grib2): http://tgftp.nws.noaa.gov/SL.us008001/ST.opnl/DF.gr2/DC.ndgd/GT.aq/
Link to metadata
Questions/Concerns about the service, please contact the IDP-GIS team
Time Information: This map is time-enabled.
Single Fused Map Cache: false
Extent:
XMin: -1.7018322820794784E7
YMin: 1359430.4812583467
XMax: -5493232.199095644
YMax: 8707163.002758756
Spatial Reference: 102100
(3857)
Initial Extent:
XMin: -1.7018322820794784E7
YMin: 1359430.4812583467
XMax: -5493232.199095644
YMax: 8707163.002758756
Spatial Reference: 102100
(3857)
Full Extent:
XMin: -1.7018322820794784E7
YMin: 1359430.4812583467
XMax: -5493232.199095644
YMax: 8707163.002758756
Spatial Reference: 102100
(3857)
Time Info:
Start Time Field: idp_validtime
End Time Field: idp_validendtime
Time Extent:
[2020/12/29 07:00:00 UTC, 2020/12/31 12:59:59 UTC]
Time Reference:
N/A
Pixel Size X: 6496.66889611
Pixel Size Y: 6496.66889611
Band Count: 1
Pixel Type: S16
RasterFunction Infos: {"name":"apm25_color","description":"A raster function template.","help":""}, {"name":"None","description":"","help":""}
Mensuration Capabilities: Basic
Has Histograms: true
Has Colormap: false
Has Multi Dimensions : false
Rendering Rule:
Min Scale: 0
Max Scale: 0
Copyright Text: NOAA NWS STI
Service Data Type: esriImageServiceDataTypeGeneric
Min Values: 0.234375
Max Values: 119.765625
Mean Values: 3.8824064065562025
Standard Deviation Values: 3.3993666318950013
Object ID Field: objectid
Fields:
-
objectid
(
type: esriFieldTypeOID
, alias: objectid
)
-
name
(
type: esriFieldTypeString
, alias: name
, length: 200
)
-
minps
(
type: esriFieldTypeDouble
, alias: minps
)
-
maxps
(
type: esriFieldTypeDouble
, alias: maxps
)
-
lowps
(
type: esriFieldTypeDouble
, alias: lowps
)
-
highps
(
type: esriFieldTypeDouble
, alias: highps
)
-
category
(
type: esriFieldTypeInteger
, alias: category
, Coded Values:
[0: Unknown]
, [1: Primary]
, [2: Overview]
, ...6 more...
)
-
tag
(
type: esriFieldTypeString
, alias: tag
, length: 100
)
-
groupname
(
type: esriFieldTypeString
, alias: groupname
, length: 100
)
-
productname
(
type: esriFieldTypeString
, alias: productname
, length: 100
)
-
centerx
(
type: esriFieldTypeDouble
, alias: centerx
)
-
centery
(
type: esriFieldTypeDouble
, alias: centery
)
-
zorder
(
type: esriFieldTypeInteger
, alias: zorder
)
-
idp_source
(
type: esriFieldTypeString
, alias: idp_source
, length: 50
)
-
idp_subset
(
type: esriFieldTypeString
, alias: idp_subset
, length: 50
)
-
idp_filedate
(
type: esriFieldTypeDate
, alias: idp_filedate
, length: 8
)
-
idp_ingestdate
(
type: esriFieldTypeDate
, alias: idp_ingestdate
, length: 8
)
-
idp_current_forecast
(
type: esriFieldTypeInteger
, alias: idp_current_forecast
)
-
idp_time_series
(
type: esriFieldTypeInteger
, alias: idp_time_series
)
-
idp_issueddate
(
type: esriFieldTypeDate
, alias: idp_issueddate
, length: 8
)
-
idp_validtime
(
type: esriFieldTypeDate
, alias: idp_validtime
, length: 8
)
-
idp_validendtime
(
type: esriFieldTypeDate
, alias: idp_validendtime
, length: 8
)
-
idp_fcst_hour
(
type: esriFieldTypeInteger
, alias: idp_fcst_hour
)
-
idp_grb_level
(
type: esriFieldTypeString
, alias: idp_grb_level
, length: 50
)
-
idp_grb_elem
(
type: esriFieldTypeString
, alias: idp_grb_elem
, length: 255
)
-
shape
(
type: esriFieldTypeGeometry
, alias: shape
)
-
st_area(shape)
(
type: esriFieldTypeDouble
, alias: st_area(shape)
)
-
st_length(shape)
(
type: esriFieldTypeDouble
, alias: st_length(shape)
)
Default Mosaic Method: Northwest
Allowed Mosaic Methods: NorthWest,Center,LockRaster,ByAttribute,Nadir,Viewpoint,Seamline,None
SortField:
SortValue: null
Mosaic Operator: First
Default Compression Quality: 75
Default Resampling Method: Bilinear
Max Record Count: 1000
Max Image Height: 4100
Max Image Width: 15000
Max Download Image Count: 20
Max Mosaic Image Count: 20
Allow Raster Function: true
Allow Compute TiePoints: false
Supports Statistics: true
Supports Advanced Queries: true
Use StandardizedQueries: true
Raster Type Infos:
Name: Raster Dataset
Description: Supports all ArcGIS Raster Datasets
Help:
Has Raster Attribute Table: false
Edit Fields Info: null
Ownership Based AccessControl For Rasters: null
Child Resources:
Info
Histograms
Key Properties
Legend
MultiDimensionalInfo
rasterFunctionInfos
Supported Operations:
Export Image
Query
Identify
Measure
Compute Histograms
Compute Statistics Histograms
Get Samples
Compute Class Statistics